BEGIN:VCALENDAR
PRODID:-//github.com/rianjs/ical.net//NONSGML ical.net 4.0//EN
VERSION:2.0
BEGIN:VEVENT
DESCRIPTION:
DTEND:20260910T150000Z
DTSTAMP:20260425T163438Z
DTSTART:20260909T085000Z
LOCATION:None France
SEQUENCE:0
SUMMARY:Webcast | 2-day Event on 9 & 10 September
TRANSP:TRANSPARENT
UID:cf8aa4cf-326c-47a2-81d5-91587d5479cb
END:VEVENT
BEGIN:VTIMEZONE
END:VTIMEZONE
END:VCALENDAR
